BEGIN:VCALENDAR
VERSION:2.0
PRODID:GIGPRESS 2.0 WORDPRESS PLUGIN
CALSCALE:GREGORIAN
X-WR-TIMEZONE:Etc/GMT
METHOD:PUBLISH
BEGIN:VTIMEZONE
TZID:GMT
BEGIN:STANDARD
DTSTART:20071028T010000
TZOFFSETTO:+0000
TZOFFSETFROM:+0000
END:STANDARD
END:VTIMEZONE
BEGIN:VEVENT
SUMMARY:Devon Allman Project at Gerald R. Ford Amphitheater
DESCRIPTION:Notes: Allman Betts Family Revival 
LOCATION:Gerald R. Ford Amphitheater\, Vail\, CO\, US
UID:20260606-1841-adam@cosmosexschool.com
URL:https://devonallmanproject.com
DTSTART;VALUE=DATE;TZID=GMT:20260606
DTEND;VALUE=DATE;TZID=GMT:20260606
DTSTAMP:20260421T114423Z
END:VEVENT
END:VCALENDAR